BEGIN:VCALENDAR
VERSION:2.0
PRODID:-//Olga Lava Mares - ECPv6.2.5//NONSGML v1.0//EN
CALSCALE:GREGORIAN
METHOD:PUBLISH
X-ORIGINAL-URL:https://olgalava.com
X-WR-CALDESC:Eventos para Olga Lava Mares
REFRESH-INTERVAL;VALUE=DURATION:PT1H
X-Robots-Tag:noindex
X-PUBLISHED-TTL:PT1H
BEGIN:VTIMEZONE
TZID:Europe/Madrid
BEGIN:DAYLIGHT
TZOFFSETFROM:+0100
TZOFFSETTO:+0200
TZNAME:CEST
DTSTART:20170326T010000
END:DAYLIGHT
BEGIN:STANDARD
TZOFFSETFROM:+0200
TZOFFSETTO:+0100
TZNAME:CET
DTSTART:20171029T010000
END:STANDARD
END:VTIMEZONE
BEGIN:VEVENT
DTSTART;TZID=Europe/Madrid:20170801T080000
DTEND;TZID=Europe/Madrid:20170820T170000
DTSTAMP:20260425T181402
CREATED:20170725T183721Z
LAST-MODIFIED:20170725T183721Z
UID:1067-1501574400-1503248400@olgalava.com
SUMMARY:NOS VAMOS DE VACACIONES
DESCRIPTION:La consulta permanecerá cerrada desde el 1 al 20 de agosto. \nSi deseas pedir cita o consultar cualquier duda puedes hacerlo antes o después de esta fecha y con mucho gusto te atenderemos. \nOs deseamos un feliz verano y un feliz descanso! \n \nComparte esto:Haz clic para compartir en Twitter (Se abre en una ventana nueva)Haz clic para compartir en Facebook (Se abre en una ventana nueva)
URL:https://olgalava.com/event/nos-vamos-de-vacaciones/
LOCATION:ALATEL\, C/ Alcudia de Crespins\, 12 - 33\, Valencia\, 46019\, España
ORGANIZER;CN="Olga Lava":MAILTO:olgalava@hotmail.com
END:VEVENT
END:VCALENDAR