BEGIN:VCALENDAR
VERSION:2.0
PRODID:-//Olga Lava Mares - ECPv6.2.5//NONSGML v1.0//EN
CALSCALE:GREGORIAN
METHOD:PUBLISH
X-WR-CALNAME:Olga Lava Mares
X-ORIGINAL-URL:https://olgalava.com
X-WR-CALDESC:Eventos para Olga Lava Mares
REFRESH-INTERVAL;VALUE=DURATION:PT1H
X-Robots-Tag:noindex
X-PUBLISHED-TTL:PT1H
BEGIN:VTIMEZONE
TZID:Europe/Madrid
BEGIN:DAYLIGHT
TZOFFSETFROM:+0100
TZOFFSETTO:+0200
TZNAME:CEST
DTSTART:20180325T010000
END:DAYLIGHT
BEGIN:STANDARD
TZOFFSETFROM:+0200
TZOFFSETTO:+0100
TZNAME:CET
DTSTART:20181028T010000
END:STANDARD
END:VTIMEZONE
BEGIN:VEVENT
DTSTART;TZID=Europe/Madrid:20180615T100000
DTEND;TZID=Europe/Madrid:20180615T180000
DTSTAMP:20260421T184019
CREATED:20180604T165104Z
LAST-MODIFIED:20180606T143653Z
UID:1567-1529056800-1529085600@olgalava.com
SUMMARY:Sesiones de Péndulo Hebreo
DESCRIPTION:De 10:00 a 18:00 horas \n  \nSesiones individuales de una hora durante las que se detectarán y limpiarán miasmas\, larvas magnéticas\, magias\, mal de ojo y otro tipo de bloqueos que pueden afectar a la persona negativamente impidiendo avanzar en la vida\, desarrollarse plenamente y conseguir todas sus metas. \nAsimismo se realizará limpieza energética de los órganos y del campo electromagnético de la persona reforzando su protección ante energías no deseadas. \n  \nPrecio especial durante este día: 15 € \n  \nFacilita: Atit Dharma Das Jesús\n649 104 786 \n  \nComparte esto:Haz clic para compartir en Twitter (Se abre en una ventana nueva)Haz clic para compartir en Facebook (Se abre en una ventana nueva)
URL:https://olgalava.com/event/sesiones-de-pendulo-hebreo/
LOCATION:ALATEL\, C/ Alcudia de Crespins\, 12 - 33\, Valencia\, 46019\, España
ORGANIZER;CN="Atit Dharma Das":MAILTO:atitdharmadas@gmail.com
END:VEVENT
END:VCALENDAR