BEGIN:VCALENDAR
VERSION:2.0
PRODID:-//Olga Lava Mares - ECPv6.2.5//NONSGML v1.0//EN
CALSCALE:GREGORIAN
METHOD:PUBLISH
X-ORIGINAL-URL:https://olgalava.com
X-WR-CALDESC:Eventos para Olga Lava Mares
REFRESH-INTERVAL;VALUE=DURATION:PT1H
X-Robots-Tag:noindex
X-PUBLISHED-TTL:PT1H
BEGIN:VTIMEZONE
TZID:Europe/Madrid
BEGIN:DAYLIGHT
TZOFFSETFROM:+0100
TZOFFSETTO:+0200
TZNAME:CEST
DTSTART:20180325T010000
END:DAYLIGHT
BEGIN:STANDARD
TZOFFSETFROM:+0200
TZOFFSETTO:+0100
TZNAME:CET
DTSTART:20181028T010000
END:STANDARD
END:VTIMEZONE
BEGIN:VEVENT
DTSTART;TZID=Europe/Madrid:20181005T160000
DTEND;TZID=Europe/Madrid:20181007T200000
DTSTAMP:20260421T092229
CREATED:20160423T194302Z
LAST-MODIFIED:20180906T082640Z
UID:659-1538755200-1538942400@olgalava.com
SUMMARY:Formación de Biokinesiología
DESCRIPTION:Facilita: Olga Lava Mares \nInformación y reservas: 679 320 928 – olgalvmrs@gmail.com \n  \nLugar: ALATEL\, C/ Alcudia de Crespins\, 12 – 33 Valencia \nHorario: Viernes de 16:00 a 20:00 h. Sábado y Domingo de 9:30 a 14:00 y de 16:00 a 19:00 h. \n  \nFechas: Kinesiología (Nivel I)  5\, 6 y 7 de octubre 2018 – Biomagnetismo (Nivel II) 2\, 3 y 4 noviembre 2018 \nAmbos talleres son obligatorios para obtener la titulación. Para acceder al segundo es imprescindible haber hecho el primero. \n  \nPrecio: 450 € la Formación completa \nForma de pago: Si reservas con 100 € antes del  30 de septiembre\, tendrás un descuento de 50 € del precio total. \n\nCon reserva 100 € + 150 € cada taller\,\nSin reserva 225 € cada taller.\n\nReserva: 100 €  al nº de cuenta de Olga Lava Mares \nTRIODOS BANK ES42 1491 0001 2821 2728 9128 \n  \nMás información: \nFormación de BioKinesiología \n \nComparte esto:Haz clic para compartir en Twitter (Se abre en una ventana nueva)Haz clic para compartir en Facebook (Se abre en una ventana nueva)
URL:https://olgalava.com/event/curso-de-biokinesiologia/
LOCATION:ALATEL\, C/ Alcudia de Crespins\, 12 - 33\, Valencia\, 46019\, España
ORGANIZER;CN="Olga Lava":MAILTO:olgalava@hotmail.com
END:VEVENT
END:VCALENDAR