BEGIN:VCALENDAR
VERSION:2.0
PRODID:-//Olga Lava Mares - ECPv6.2.5//NONSGML v1.0//EN
CALSCALE:GREGORIAN
METHOD:PUBLISH
X-WR-CALNAME:Olga Lava Mares
X-ORIGINAL-URL:https://olgalava.com
X-WR-CALDESC:Eventos para Olga Lava Mares
REFRESH-INTERVAL;VALUE=DURATION:PT1H
X-Robots-Tag:noindex
X-PUBLISHED-TTL:PT1H
BEGIN:VTIMEZONE
TZID:Europe/Madrid
BEGIN:DAYLIGHT
TZOFFSETFROM:+0100
TZOFFSETTO:+0200
TZNAME:CEST
DTSTART:20180325T010000
END:DAYLIGHT
BEGIN:STANDARD
TZOFFSETFROM:+0200
TZOFFSETTO:+0100
TZNAME:CET
DTSTART:20181028T010000
END:STANDARD
END:VTIMEZONE
BEGIN:VEVENT
DTSTART;TZID=Europe/Madrid:20181027T100000
DTEND;TZID=Europe/Madrid:20181104T140000
DTSTAMP:20260421T092227
CREATED:20180430T145113Z
LAST-MODIFIED:20181013T102405Z
UID:1518-1540634400-1541340000@olgalava.com
SUMMARY:Taller de Corte de Lazos
DESCRIPTION:En el taller nos enfocaremos en comprender un poco más el cómo nos relacionamos con los demás a nivel energético. Cómo se crean y actúan estos lazos o gusanos energéticos. El recuerdo emocional de la relación a la hora de reforzar el vínculo a nivel inconsciente. Desarrollar decretos conscientes personales con unas bases claras. Observación para la prevención. \n  \nFechas: El taller se repetirá en dos lugares distintos \n27 y 28 octubre 2018 en Matalpino – Madrid \n3 y 4  noviembre 2018 en Valladolid \n  \nHorario: Sábado de 10:00 a 14:00 y de 16:00 a 20:00. Domingo de 10:00 a 14:00 horas \n  \nPrecio: 100 € \n  \nFacilita: Atit Jesús Salvador \nInformación y reservas: 649 104 786 – atitdharmadas@gmail.com \n  \n  \nMás información: \nTaller de Corte de Lazos \n \n  \nComparte esto:Haz clic para compartir en Twitter (Se abre en una ventana nueva)Haz clic para compartir en Facebook (Se abre en una ventana nueva)
URL:https://olgalava.com/event/taller-de-corte-de-lazos/
ORGANIZER;CN="Atit Dharma Das":MAILTO:atitdharmadas@gmail.com
END:VEVENT
BEGIN:VEVENT
DTSTART;TZID=Europe/Madrid:20181027T103000
DTEND;TZID=Europe/Madrid:20181027T120000
DTSTAMP:20260421T092227
CREATED:20160330T173621Z
LAST-MODIFIED:20181014T110645Z
UID:618-1540636200-1540641600@olgalava.com
SUMMARY:Charla - Taller "Cómo manejar el estrés"
DESCRIPTION:ENTRADA LIBRE Y GRATUITA \nAforo limitado\, se ruega confirmar asistencia en el 679 320 928 \n  \nEl estrés es una respuesta natural y necesaria para la supervivencia. pero cuando se da en exceso se produce una sobrecarga de tensión que se ve reflejada en el organismo provocando que el sistema comience a consumir mucha más energía de la que necesitamos hasta llegar al agotamiento y favoreciendo la aparición de enfermedades. \nEl estrés puede estar causado por tóxicos\, por conflictos\, por exceso de actividad\, etc. Y esto queda en la memoria de los tejidos\, los órganos\, el sistema nervioso… \nTodos los bloqueos que tenemos se pueden localizar en el cuerpo\, ya que éste revela con gran precisión la zona afectada y la naturaleza de sus desequilibrios. A veces se encuentran en los propios músculos o en las articulaciones\, y otras veces en el campo energético más sutil. Con el testaje muscular kinesiológico o a través del pulso podemos determinar que tipo de estrés es el que está afectando a la persona (físico\, emocional\, químico\, energético…) Y de qué manera podemos ayudar a equilibrarlo. \nExisten un buen número de técnicas naturales y energéticas que nos permiten recuperar la energía liberando ese estrés que está acomodado en la memoria somática\, disolviendo así el conflicto y recuperando la capacidad de elección que tiene la persona\, es decir\, la capacidad para escoger lo que quiere en la vida. Permitiéndole tomar decisiones conscientes y no generadas por una respuesta reactiva de supervivencia. \nEn esta charla – taller se abordará el tema del estrés\, qué es\, cómo afecta al cuerpo humano y cómo manejarlo con técnicas naturales y energéticas. Se harán demostraciones prácticas y se darán pautas sencillas para aliviar los síntomas y prevenirlo. \n  \nImparte: Olga Lava Mares \n  \nLugar: MAFFEI & RAIG – CENTRO DE TERAPIAS INTERNACIONAL \nC/ Enric Granados 111\, 1º – 2ª\, Barcelona \n  \n  \nComparte esto:Haz clic para compartir en Twitter (Se abre en una ventana nueva)Haz clic para compartir en Facebook (Se abre en una ventana nueva)
URL:https://olgalava.com/event/chalra-estres/
LOCATION:Maffei & Raig\, C/ Enrique Granados\, 111\, Barcelona\, 08008\, España
ORGANIZER;CN="Olga Lava":MAILTO:olgalava@hotmail.com
END:VEVENT
END:VCALENDAR