BEGIN:VCALENDAR
VERSION:2.0
PRODID:-//Olga Lava Mares - ECPv6.2.5//NONSGML v1.0//EN
CALSCALE:GREGORIAN
METHOD:PUBLISH
X-WR-CALNAME:Olga Lava Mares
X-ORIGINAL-URL:https://olgalava.com
X-WR-CALDESC:Eventos para Olga Lava Mares
REFRESH-INTERVAL;VALUE=DURATION:PT1H
X-Robots-Tag:noindex
X-PUBLISHED-TTL:PT1H
BEGIN:VTIMEZONE
TZID:Europe/Madrid
BEGIN:DAYLIGHT
TZOFFSETFROM:+0100
TZOFFSETTO:+0200
TZNAME:CEST
DTSTART:20190331T010000
END:DAYLIGHT
BEGIN:STANDARD
TZOFFSETFROM:+0200
TZOFFSETTO:+0100
TZNAME:CET
DTSTART:20191027T010000
END:STANDARD
BEGIN:DAYLIGHT
TZOFFSETFROM:+0100
TZOFFSETTO:+0200
TZNAME:CEST
DTSTART:20200329T010000
END:DAYLIGHT
BEGIN:STANDARD
TZOFFSETFROM:+0200
TZOFFSETTO:+0100
TZNAME:CET
DTSTART:20201025T010000
END:STANDARD
END:VTIMEZONE
BEGIN:VEVENT
DTSTART;TZID=Europe/Madrid:20190216T100000
DTEND;TZID=Europe/Madrid:20190217T150000
DTSTAMP:20260421T080434
CREATED:20181014T102946Z
LAST-MODIFIED:20190224T110515Z
UID:1647-1550311200-1550415600@olgalava.com
SUMMARY:Formación de Síntesis Energética Valencia y Barcelona
DESCRIPTION:     Formación de 5 meses de duración de la técnica terapéutica con testaje a través del pulso.\nSe realizará un seminario al mes\, en fin de semana\, con el sábado completo y el domingo hasta el mediodía.\nNo te pierdas la oportunidad de realizar este curso único  en el que aprenderás técnicas sencillas a la vez que poderosas para sanar cualquier tipo de desórdenes: físicos\, energéticos\, mentales\, emocionales\, astrales\, sistémicos… Entrénate para ser tú la propia herramienta de sanación! \nLas plazas son limitadas y las fechas están por confirmar\, si estás interesado contacta con nosotros para que te podamos informar a la mayor brevedad. \n  \nImparte: Atit Dharma Das Jesús – 649 104 786 – atitdharmadas@gmail.com \n  \nLugar: Barcelona y Valencia \n  \n  \nSi necesitas más información con precios y programa detallado revisa el apartado siguiente: \nSíntesis Energética Formación \n \nComparte esto:Haz clic para compartir en Twitter (Se abre en una ventana nueva)Haz clic para compartir en Facebook (Se abre en una ventana nueva)
URL:https://olgalava.com/event/formacion-de-sintesis-energetica-valencia/
LOCATION:ALATEL\, C/ Alcudia de Crespins\, 12 - 33\, Valencia\, 46019\, España
ORGANIZER;CN="Atit Dharma Das":MAILTO:atitdharmadas@gmail.com
END:VEVENT
BEGIN:VEVENT
DTSTART;TZID=Europe/Madrid:20190223T100000
DTEND;TZID=Europe/Madrid:20190224T140000
DTSTAMP:20260421T080434
CREATED:20170415T080900Z
LAST-MODIFIED:20190224T110622Z
UID:929-1550916000-1551016800@olgalava.com
SUMMARY:Curso Introductorio de Síntesis Energética
DESCRIPTION:Curso teórico-práctico que nos adentra en la técnica terapéutica de testaje con el pulso. Esto nos permite detectar los desequilibrios que están sucediendo en la persona ya sean a nivel físico\, mental\, emocional\, astral\, sistémico\, etc. \nDurante el curso se obtiene un mayor conocimiento de cómo funciona nuestro cuerpo energético (chakras\, etc.) y se aprende a corregir todos estos desórdenes con las frecuencias vibracionales de geometrías sagradas\, luz y sonido. \nSe realizaran prácticas para poder aplicarlo a uno mismo y a los demás.\nDirigido a todas aquellas personas que teniendo experiencia o no como terapeutas tengan interés en aprender la técnica. \n  \nEste taller además de ser un curso introductorio a la técnica también es el 1º módulo de la Formación de 5 meses que empezará  en Barcelona cuando se haya formado el grupo. \n  \nFacilita: Atit DharmaDas Jesús \nInformación y reservas: 649 104 786 – atitdharmadas@gmail.com \n  \nLugar: BARCELONA \nFecha: Por confirmar\, si estás interesado ponte en contacto con nosotros y te informaremos a la mayor brevedad \nHorario: Sábado de 10:00 a 14:00 y de 16:00 a 20:00. Domingo de 10:00 a 14:00 horas \nPrecio: Por confirmar \n  \n  \nMás información: \nSíntesis Energética Curso Intro \n \n  \n  \n  \nComparte esto:Haz clic para compartir en Twitter (Se abre en una ventana nueva)Haz clic para compartir en Facebook (Se abre en una ventana nueva)
URL:https://olgalava.com/event/taller-de-introduccion-a-la-sintesis-energetica/
ORGANIZER;CN="Atit Dharma Das":MAILTO:atitdharmadas@gmail.com
END:VEVENT
BEGIN:VEVENT
DTSTART;TZID=Europe/Madrid:20190314T160000
DTEND;TZID=Europe/Madrid:20190315T153000
DTSTAMP:20260421T080434
CREATED:20190224T112237Z
LAST-MODIFIED:20190224T113213Z
UID:1696-1552579200-1552663800@olgalava.com
SUMMARY:Consulta presencial en Madrid
DESCRIPTION:TÉCNICAS NATURALES Y EVOLUTIVAS \ncon Olga Lava\, pide tu cita en el 669 224 316 \nKinesiología – Biomagnetismo – Síntesis Energética – Descodificación Biológica – PsychK – Integración Emocional – Esencias Florales – Homeopatía – Fitoterapia – Test de intolerancias y alergias alimentarias… \nEn DARANNUR – C/ Clara Campoamor 23 bajo Madrid \nComparte esto:Haz clic para compartir en Twitter (Se abre en una ventana nueva)Haz clic para compartir en Facebook (Se abre en una ventana nueva)
URL:https://olgalava.com/event/consulta-presencial-en-madrid-2/
ORGANIZER;CN="Olga Lava":MAILTO:olgalava@hotmail.com
END:VEVENT
BEGIN:VEVENT
DTSTART;TZID=Europe/Madrid:20190516T160000
DTEND;TZID=Europe/Madrid:20190517T150000
DTSTAMP:20260421T080434
CREATED:20190224T112419Z
LAST-MODIFIED:20190330T125649Z
UID:1698-1558022400-1558105200@olgalava.com
SUMMARY:Consulta presencial en Madrid
DESCRIPTION:TÉCNICAS NATURALES Y EVOLUTIVAS \ncon Olga Lava\, pide tu cita en el 669 224 316 \nKinesiología – Biomagnetismo – Síntesis Energética – Descodificación Biológica – PsychK – Integración Emocional – Esencias Florales – Homeopatía – Fitoterapia – Test de intolerancias y alergias alimentarias… \nEn DARANNUR – C/ Clara Campoamor 23 bajo Madrid \nComparte esto:Haz clic para compartir en Twitter (Se abre en una ventana nueva)Haz clic para compartir en Facebook (Se abre en una ventana nueva)
URL:https://olgalava.com/event/consulta-presencial-en-madrid-3/
ORGANIZER;CN="Olga Lava":MAILTO:olgalava@hotmail.com
END:VEVENT
BEGIN:VEVENT
DTSTART;TZID=Europe/Madrid:20190601T100000
DTEND;TZID=Europe/Madrid:20190831T210000
DTSTAMP:20260421T080434
CREATED:20180727T113954Z
LAST-MODIFIED:20190610T190718Z
UID:1611-1559383200-1567285200@olgalava.com
SUMMARY:¡¡NO CERRAMOS POR VACACIONES!!
DESCRIPTION:Seguiremos trabajando durante los meses de junio\, julio y agosto en Valencia\, Barcelona y Madrid de forma presencial. Y como nos adaptamos a tus necesidades\, también haremos sesiones a distancia durante todo el verano\, por si te encuentras fuera de la ciudad y no puedes acudir a la consulta. \nCitas e información en los teléfonos 679 320 928 y 649 104 786 \n¡Os deseamos un feliz verano! \nComparte esto:Haz clic para compartir en Twitter (Se abre en una ventana nueva)Haz clic para compartir en Facebook (Se abre en una ventana nueva)
URL:https://olgalava.com/event/este-ano-no-cerramos-en-agosto/
LOCATION:ALATEL\, C/ Alcudia de Crespins\, 12 - 33\, Valencia\, 46019\, España
ORGANIZER;CN="Olga Lava":MAILTO:olgalava@hotmail.com
END:VEVENT
BEGIN:VEVENT
DTSTART;TZID=Europe/Madrid:20190722T100000
DTEND;TZID=Europe/Madrid:20190726T200000
DTSTAMP:20260421T080434
CREATED:20180430T143714Z
LAST-MODIFIED:20190719T100730Z
UID:1513-1563789600-1564171200@olgalava.com
SUMMARY:Segunda semana de promoción
DESCRIPTION:Todas las sesiones de una hora a 25 € en distintas terapias. Continuamos con los descuentos del verano de la mano de Atit Jesus Salvador. Puedes elegir el tratamiento que prefieras o dejar que tu cuerpo hable a través del testaje para averiguar que te ayuda más en estos momentos según la situación que estés viviendo o la problemática concreta que tengas. \n\nMasaje descontracturante\nMasaje de cabeza hindú\nReflexología podal\nPéndulo hebreo\nEquilibrio con esencias florales\n\n  \nFacilita: Atit Jesús Salvador \nInformación y Reservas: 649 104 786 – atitjesussalvador@gmail.com \n  \nFecha: del 22 al 26 de julio 2019 (ambos incluidos) \nHorario: De 10:00 a 20:00 horas \nLugar: ALATEL\, C/ Alcudia de Crespins\, 12 – 33 Valencia \n  \n  \n  \nComparte esto:Haz clic para compartir en Twitter (Se abre en una ventana nueva)Haz clic para compartir en Facebook (Se abre en una ventana nueva)
URL:https://olgalava.com/event/cumplimos-1-ano/
LOCATION:ALATEL\, C/ Alcudia de Crespins\, 12 - 33\, Valencia\, 46019\, España
ORGANIZER;CN="Olga Lava":MAILTO:olgalava@hotmail.com
END:VEVENT
BEGIN:VEVENT
DTSTART;TZID=Europe/Madrid:20190929T100000
DTEND;TZID=Europe/Madrid:20190929T200000
DTSTAMP:20260421T080434
CREATED:20170522T095351Z
LAST-MODIFIED:20190903T140136Z
UID:977-1569751200-1569787200@olgalava.com
SUMMARY:Jornada de Puertas Abiertas
DESCRIPTION:Se terminó lo bueno … y ahora empieza lo mejor!! \nDespués del merecido descanso\, iniciamos el nuevo curso con muchas ganas y las pilas puestas. Y para celebrarlo queremos compartir con vosotros un día completo de puertas abiertas con muchas y variadas actividades\, todas ellas GRATUITAS \n\nInauguramos la exposición de pintura que permanecerá en el centro de forma permanente: BOTONARTE. No te pierdas los pinturas más creativas y artísticas realizadas con botones. Puedes pasarte a visitarla cuando quieras a lo largo del día.\nA las 10.00 de la mañana comenzaremos la jornada con una Clase de ESPALDA SANA impartida por Olga Lava. Para ello solo tienes que traer ropa cómoda y una toalla o pareo para cubrir la colchoneta. En esta clase es imprescindible confirmar la asistencia por cuestiones de espacio en el 679 320 928\nA las 12.00 continuaremos con la presentación de la técnica SÍNTESIS ENERGÉTICA con Atit Jesús Salvador. En la cual podrás participar de una charla explicativa\, distintas demostraciones y prácticas para poder experimentar los efectos en tí mismo\, y la presentación del nuevo curso.\nA las 14.00 cerraremos para comer. Y estaremos encantados de compartir con todos los que queráis apuntaros. La comida se realizará en algún restaurante de la zona.\nA las 16.30 retomamos las actividades con una Clase de MEDITACIÓN GUIADA por Atit Jesús Salvador\, donde podrás descubrir el poder de la Geometría Sagrada.\nA las 18.00 seguiremos con la presentación de la técnica KINESIOLOGÍA con Olga Lava Mares. En la cual podrás participar de una charla explicativa\, distintas demostraciones y prácticas para poder experimentar los efectos en tí mismo\, y la presentación del nuevo curso.\nA las 20.00 despedida y cierre.\n\n  \nTe esperamos con los brazos abiertos y recuerda que puedes traer a quien quieras\, invita a tus familiares y amigos. \nNo te lo pierdas!! \n  \n  \nComparte esto:Haz clic para compartir en Twitter (Se abre en una ventana nueva)Haz clic para compartir en Facebook (Se abre en una ventana nueva)
URL:https://olgalava.com/event/jornada-de-puertas-abiertas/
LOCATION:ALATEL\, C/ Alcudia de Crespins\, 12 - 33\, Valencia\, 46019\, España
ORGANIZER;CN="Olga Lava":MAILTO:olgalava@hotmail.com
END:VEVENT
BEGIN:VEVENT
DTSTART;TZID=Europe/Madrid:20191106T100000
DTEND;TZID=Europe/Madrid:20191108T200000
DTSTAMP:20260421T080434
CREATED:20190224T111611Z
LAST-MODIFIED:20191104T171716Z
UID:1694-1573034400-1573243200@olgalava.com
SUMMARY:Consulta presencial en Barcelona
DESCRIPTION:TÉCNICAS NATURALES Y EVOLUTIVAS \ncon Olga Lava\, pide tu cita en el 679 320 928 \nKinesiología – Biomagnetismo – Síntesis Energética – Descodificación Biológica – Psych-K – Integración Emocional – Esencias Florales – Homeopatía – Fitoterapia – Test de intolerancias alimentarias – Tratamiento para  alergias … y muchas más\,…  pero sobre todo\, toma de conciencia para poder hacer el cambio que necesitas. \nMAFFEI & RAIG CENTRO DE TERAPIAS INTERNACIONAL \nC/ Enrique Granados 111\, 1º – 2ª  Barcelona \nComparte esto:Haz clic para compartir en Twitter (Se abre en una ventana nueva)Haz clic para compartir en Facebook (Se abre en una ventana nueva)
URL:https://olgalava.com/event/consulta-presencial-en-barcelona/
LOCATION:Maffei & Raig\, C/ Enrique Granados\, 111\, Barcelona\, 08008\, España
ORGANIZER;CN="Olga Lava":MAILTO:olgalava@hotmail.com
END:VEVENT
BEGIN:VEVENT
DTSTART;TZID=Europe/Madrid:20191116T100000
DTEND;TZID=Europe/Madrid:20191116T200000
DTSTAMP:20260421T080434
CREATED:20170529T173708Z
LAST-MODIFIED:20191104T172322Z
UID:988-1573898400-1573934400@olgalava.com
SUMMARY:Taller de Constelaciones Familiares
DESCRIPTION:Os proponemos un nuevo taller de Constelaciones Familiares con Atit Jesús Salvador quien lleva más de 16 años facilitando este tipo de acompañamiento. \nDesde el momento en que somos engendrados formamos parte de nuestro Sistema Familiar\, del cual  heredamos los rasgos físicos\, las aptitudes\, los dones\, el talento … pero también heredamos ciertas creencias\, traumas\, emociones\, situaciones no resueltas\, dificultades o enfermedades. \nMuchas veces por amor ciego o porque hemos sido designados por el sistema nos ligamos a los destinos de nuestros ancestros repitiendo una vez y otra vez. Por esta razón\, inconscientemente\, no permitimos que la felicidad ni la realización llegue a nuestras vidas\, hasta que alguien pueda dar una solución adulta para trascender el sufrimiento y aportar al sistema este aprendizaje desde la liberación y el amor a la vida. \nEn las Constelaciones Familiares se trabaja para sacar a la luz los desórdenes del Sistema Familiar que nos puedan estar afectando de forma directa y equilibrarlos\, de esta forma ni nosotros ni ningún otro miembro del sistema tendrá que repetir ese destino y el trauma queda sanado. \n  \nRecomendado para los que ya nos conocéis y para todos aquellos que aún no habéis podido asistir. \n  \nFacilita: Atit Jesús Salvador \nInformación y reservas: 649 104 786 – atitjesussalvador@gmail.com \n  \nLugar: ALATEL\, C/ Alcudia de Crespins\, 12 – 33 Valencia \nFecha:  16 noviembre 2019 \nHorario: lo habitual es de 10:00 a 14:00 y de 16:00 a 20:00 pudiendo sufrir modificaciones en función de cuántas personas constelen. \n  \nPrecio constelador: 50 €\nPrecio representante: 20 € \n  \nLas plazas son limitadas\, es necesario reservar con 25 € \n*La reserva solo se devolverá si el taller se anula por no completar el aforo. Si una vez realizado el pago el alumno no puede asistir\, el dinero se reservará para un próximo taller de la misma temática o lo podrá transferir a otra persona. \n  \nMás información: \nTaller de Constelaciones Familiares \n \n  \nComparte esto:Haz clic para compartir en Twitter (Se abre en una ventana nueva)Haz clic para compartir en Facebook (Se abre en una ventana nueva)
URL:https://olgalava.com/event/constelaciones-familiares/
LOCATION:ALATEL\, C/ Alcudia de Crespins\, 12 - 33\, Valencia\, 46019\, España
ORGANIZER;CN="Atit Dharma Das":MAILTO:atitdharmadas@gmail.com
END:VEVENT
BEGIN:VEVENT
DTSTART;TZID=Europe/Madrid:20191127T170000
DTEND;TZID=Europe/Madrid:20191130T143000
DTSTAMP:20260421T080434
CREATED:20190224T112824Z
LAST-MODIFIED:20191104T171830Z
UID:1700-1574874000-1575124200@olgalava.com
SUMMARY:Consulta presencial en Lekeitio
DESCRIPTION:TÉCNICAS NATURALES Y EVOLUTIVAS \ncon Olga Lava\, pide tu cita en el 670 273 557 \nKinesiología – Biomagnetismo – Síntesis Energética – Descodificación Biológica – PsychK – Integración Emocional – Esencias Florales – Homeopatía – Fitoterapia – Test de intolerancias y alergias alimentarias… \nEn NAYAT ZENTRUA – Atea 20\, behea – Lekeitio (Vizkaya) \nComparte esto:Haz clic para compartir en Twitter (Se abre en una ventana nueva)Haz clic para compartir en Facebook (Se abre en una ventana nueva)
URL:https://olgalava.com/event/consulta-presencial-en-lekeitio/
ORGANIZER;CN="Olga Lava":MAILTO:olgalava@hotmail.com
END:VEVENT
BEGIN:VEVENT
DTSTART;TZID=Europe/Madrid:20200208T093000
DTEND;TZID=Europe/Madrid:20200510T180000
DTSTAMP:20260421T080434
CREATED:20180119T103855Z
LAST-MODIFIED:20191104T171629Z
UID:1409-1581154200-1589133600@olgalava.com
SUMMARY:Kinesiología para la Salud
DESCRIPTION:¡¡¡COMENZAMOS EL 8  DE FEBRERO 2020!!! \n  \nCon este Ciclo Formativo de Kinesiología obtendrás herramientas para mejorar tu salud y aumentar tu bienestar en la vida diaria y familiar\, y además te permitirá ejercer como kinesiólogo o kinesióloga con una alta calidad profesional. \nSe combinan conocimientos de Kinesiología\, Nutrición y Medicina Tradicional China con el uso del test muscular. \nEste curso va dirigido a personal sanitario y terapeutas que quieran incorporar el uso del test muscular cualitativo en su trabajo\, así como también a todas aquellas personas que quieran aumentar y mejorar su bienestar personal sin necesidad de tener ninguna formación previa. \n  \nCon la Kinesiología aprenderás a: \n– Saber que necesitamos para recuperar el equilibrio físico\, postural\, emocional\, químico o energético. \n– Acceder y cambiar la memoria celular que guarda toda la información de nuestro estado actual y del pasado. \n– Recuperar la capacidad innata del cuerpo para sanarse a sí mismo. \n  \n¡Aprovecha el descuento de 50 € si te inscribes antes del 31 de enero! \n  \nMás información: \nKinesiología para la Salud \n \nComparte esto:Haz clic para compartir en Twitter (Se abre en una ventana nueva)Haz clic para compartir en Facebook (Se abre en una ventana nueva)
URL:https://olgalava.com/event/kinesiologia-para-la-salud/
LOCATION:ALATEL\, C/ Alcudia de Crespins\, 12 - 33\, Valencia\, 46019\, España
ORGANIZER;CN="Olga Lava":MAILTO:olgalava@hotmail.com
END:VEVENT
END:VCALENDAR