BEGIN:VCALENDAR
VERSION:2.0
PRODID:-//Olga Lava Mares - ECPv6.2.5//NONSGML v1.0//EN
CALSCALE:GREGORIAN
METHOD:PUBLISH
X-WR-CALNAME:Olga Lava Mares
X-ORIGINAL-URL:https://olgalava.com
X-WR-CALDESC:Eventos para Olga Lava Mares
REFRESH-INTERVAL;VALUE=DURATION:PT1H
X-Robots-Tag:noindex
X-PUBLISHED-TTL:PT1H
BEGIN:VTIMEZONE
TZID:Europe/Madrid
BEGIN:DAYLIGHT
TZOFFSETFROM:+0100
TZOFFSETTO:+0200
TZNAME:CEST
DTSTART:20160327T010000
END:DAYLIGHT
BEGIN:STANDARD
TZOFFSETFROM:+0200
TZOFFSETTO:+0100
TZNAME:CET
DTSTART:20161030T010000
END:STANDARD
BEGIN:DAYLIGHT
TZOFFSETFROM:+0100
TZOFFSETTO:+0200
TZNAME:CEST
DTSTART:20170326T010000
END:DAYLIGHT
BEGIN:STANDARD
TZOFFSETFROM:+0200
TZOFFSETTO:+0100
TZNAME:CET
DTSTART:20171029T010000
END:STANDARD
BEGIN:DAYLIGHT
TZOFFSETFROM:+0100
TZOFFSETTO:+0200
TZNAME:CEST
DTSTART:20180325T010000
END:DAYLIGHT
BEGIN:STANDARD
TZOFFSETFROM:+0200
TZOFFSETTO:+0100
TZNAME:CET
DTSTART:20181028T010000
END:STANDARD
END:VTIMEZONE
BEGIN:VEVENT
DTSTART;TZID=Europe/Madrid:20180517T100000
DTEND;TZID=Europe/Madrid:20180526T213000
DTSTAMP:20260424T100658
CREATED:20180112T143836Z
LAST-MODIFIED:20180501T094906Z
UID:1393-1526551200-1527370200@olgalava.com
SUMMARY:Sesiones presenciales en Madrid y Barcelona
DESCRIPTION:Este mes además de pasar consulta en Madrid\, estaremos también en Barcelona\, abriendo un nuevo espacio el cual visitaremos una vez al mes. Para pedir citas ponte en contacto con nosotros: \n  \nOlga Lava Mares – 679 320 928 \nMAFFEI & RAIG CENTRO DE TERAPIAS INTERNACIONAL 17 de mayo durante todo el día \nC/ Enric Granados\, 111 Barcelona \nCENTRO DARANNUR 25 de mayo durante todo el día \nC/ Clara Campoamor\, 23 Madrid \n  \n  \nAtit Dharma Das Jesús – 649 104 786 \nESPACIO ALQUIMIA DEL CORAZÓN 24 y 25 de mayo durante todo el día \nC/ Mayor\, 18 – 1º izda. Madrid \n  \nComparte esto:Haz clic para compartir en Twitter (Se abre en una ventana nueva)Haz clic para compartir en Facebook (Se abre en una ventana nueva)
URL:https://olgalava.com/event/consulta-presencial-en-madrid/
ORGANIZER;CN="Olga Lava":MAILTO:olgalava@hotmail.com
END:VEVENT
BEGIN:VEVENT
DTSTART;TZID=Europe/Madrid:20180429T100000
DTEND;TZID=Europe/Madrid:20180429T200000
DTSTAMP:20260424T100658
CREATED:20170904T075828Z
LAST-MODIFIED:20180325T144947Z
UID:1211-1524996000-1525032000@olgalava.com
SUMMARY:Taller de Constelaciones Familiares
DESCRIPTION:Facilita: Atit Dharma Das Jesús \nInformación y reservas: Información y reservas: 649 104 786 – atitdharmadas@gmail.com \n  \nLugar: Madrid.  (Por determinar) \nHorario: lo habitual es de 10:00 a 14:00 y de 16:00 a 20:00 pudiendo sufrir modificaciones en función de cuántas personas constelen. \n  \nPrecio constelador: 60 €\nPrecio representante: 30€ \nLas plazas son limitadas\, es necesario reservar ingresando 25 € al número de cuenta: \nJesús Salvador Herranz \nTRIODOS BANK ES56 1491 0001 2130 0009 6092 \n*La reserva solo se devolverá si el curso se anula por no completar el aforo. Si una vez realizado el pago el alumno no puede venir\, el dinero se reservará para un próximo curso de la misma temática o lo podrá transferir a otra persona. \n  \nMás información: \nhttp://olgalava.com/taller-de-constelaciones-familiares/ \nComparte esto:Haz clic para compartir en Twitter (Se abre en una ventana nueva)Haz clic para compartir en Facebook (Se abre en una ventana nueva)
URL:https://olgalava.com/event/taller-de-constelaciones-familiares/
ORGANIZER;CN="Atit Dharma Das":MAILTO:atitdharmadas@gmail.com
END:VEVENT
BEGIN:VEVENT
DTSTART;TZID=Europe/Madrid:20180127T100000
DTEND;TZID=Europe/Madrid:20180127T200000
DTSTAMP:20260424T100658
CREATED:20160620T174921Z
LAST-MODIFIED:20171228T122447Z
UID:714-1517047200-1517083200@olgalava.com
SUMMARY:Taller de Kinesiología para testar alimentos y suplementos
DESCRIPTION:     Aprende a testar las intolerancias y alergias alimentarias y saber qué alimentos te sientan bien o no. Averigua qué suplementos puedes necesitar como probióticos\, vitaminas\, oligoelementos\, aminoácidos… El test es aplicable a cualquier tipo de producto\, ya sean alimentos\, suplementos\, homeopatía\, cosmética\, medicamentos\, Flores de Bach\, etc. Es una herramienta realmente util que aprenderás a utilizar con otros y contigo. \n     Dirigido a terapeutas o personal sanitario\, de cualquier especialidad (naturópatas\, dietistas\, dentistas…) interesados en la nutrición o en incluir el test muscular cualitativo en su consulta. Personas que trabajan en herbolarios\, centros de estética\, peluquería\, etc. que tengan contacto con el público y quieran asesorar a sus clientes con los productos que mejor le sirven y son más saludables para ellos. Y por supuesto para cualquier persona que aunque no ejerza en el campo de las terapias sienta curiosidad y quiera mejorar su salud y bienestar. \n     Para acceder al taller no se requiere experiencia ni conocimientos de ningún tipo puesto que en él se aprende todo lo necesario sobre el Test Muscular. Se proporciona manual y diploma acreditativo. \n  \nImparte: Olga Lava Mares\, socia Nº 5826 de APTN_COFENAT \nInformación y reservas: 670 320 928 \n  \nHorario: de  10:00 a 14:00 y 16:00 a 20:00 \n  \nLugar: C/ Alcudia de Crespins\, 12 – 33 Valencia (junto a Avenida Constitución) \n  \nPrecio: 100 €. Descuento de 20€ si reservas antes del 20 de enero. \nReserva: Ingreso de 30 € a nombre de Olga Lava –  TRIODOS BANK 1491 0001 2821 2728 9128 \n*La reserva solo se devolverá si el curso se anula por no completar el aforo. Si una vez realizado el pago el alumno no puede venir\, el dinero se reservará para un próximo curso de la misma temática o lo podrá transferir a otra persona. \n  \nComparte esto:Haz clic para compartir en Twitter (Se abre en una ventana nueva)Haz clic para compartir en Facebook (Se abre en una ventana nueva)
URL:https://olgalava.com/event/taller-de-test-de-alimentos/
LOCATION:Recinto sin nombre\, C/ Muñiz de Alba\, 5 - 7\, Valencia\, Valencia\, 46022\, España
END:VEVENT
BEGIN:VEVENT
DTSTART;TZID=Europe/Madrid:20180102T193000
DTEND;TZID=Europe/Madrid:20180130T210000
DTSTAMP:20260424T100658
CREATED:20170929T104957Z
LAST-MODIFIED:20171228T122738Z
UID:1005-1514921400-1517346000@olgalava.com
SUMMARY:Clases Regulares de Meditación
DESCRIPTION:     Este es un grupo abierto a cualquier persona\, sin importar la experiencia que tenga\, donde nos reunimos todos los martes de 19:30 a 21:00 para experimentar una o dos técnicas cada vez\, de diferentes líneas de meditación. Con el fin de irnos familiarizando con un estado de armonía\, silencio y tranquilidad. Volviendo a dar a la mente ese enfoque que sabemos es bueno para nosotros. \n     Ven a probar cuando quieras\, sin ningún compromiso. Serás siempre bienvenido. \n  \nImparte: Atit Dharma Das Jesús\nInformación y reservas: 649 104 786 \n\nPrecio: la voluntad \n  \nLugar: ALATEL C/ Alcudia de Crespins\, 12 – 33 Valencia \n  \nComparte esto:Haz clic para compartir en Twitter (Se abre en una ventana nueva)Haz clic para compartir en Facebook (Se abre en una ventana nueva)
URL:https://olgalava.com/event/clases-regulares-de-meditacion/
LOCATION:ALATEL\, C/ Alcudia de Crespins\, 12 - 33\, Valencia\, 46019\, España
ORGANIZER;CN="Atit Dharma Das":MAILTO:atitdharmadas@gmail.com
END:VEVENT
BEGIN:VEVENT
DTSTART;TZID=Europe/Madrid:20171223T110000
DTEND;TZID=Europe/Madrid:20171223T130000
DTSTAMP:20260424T100658
CREATED:20160330T172239Z
LAST-MODIFIED:20171124T115914Z
UID:612-1514026800-1514034000@olgalava.com
SUMMARY:Taller de Meditación y Crecimiento Personal
DESCRIPTION:Si eres una de esas personas a las que no le gusta la Navidad\, porque te sientes solo\, porque tus seres queridos ya no están contigo\, porque estás cansado de que te digan que en estas fechas hay que ser feliz\, gastar mucho dinero y comer hasta reventar\, o simplemente porque te parece obligatorio tener que celebrar una fiesta que no sientes con personas a las que visitas una vez al año y con las que no te llevas bien… te invitamos a este taller de Meditación y Crecimiento Personal si te gusta nuestra propuesta. \nPrimero realizaremos una clase de Integración Emocional en la cual nos enfocaremos en disolver el malestar y sufrimiento que nos provocan estas fiestas\, ya sea soledad\, enfado\, tristeza o cualquier otra cosa. \nY después conectaremos con la energía crística aprovechando estas fechas que es cuando se generó\, tomando la verdadera conciencia de lo que se supone que Jesús quiso compartir. \n\nImparte: Olga Lava y Atit Dharma Das Jesús \nPrecio: La Voluntad \n  \nComparte esto:Haz clic para compartir en Twitter (Se abre en una ventana nueva)Haz clic para compartir en Facebook (Se abre en una ventana nueva)
URL:https://olgalava.com/event/clase-de-meditacion-y-autocrecimiento/
LOCATION:ALATEL\, C/ Alcudia de Crespins\, 12 - 33\, Valencia\, 46019\, España
CATEGORIES:Calendario
ORGANIZER;CN="Olga Lava":MAILTO:olgalava@hotmail.com
END:VEVENT
BEGIN:VEVENT
DTSTART;TZID=Europe/Madrid:20171221T170000
DTEND;TZID=Europe/Madrid:20171221T200000
DTSTAMP:20260424T100658
CREATED:20171124T114535Z
LAST-MODIFIED:20171218T120142Z
UID:1296-1513875600-1513886400@olgalava.com
SUMMARY:Collage de los deseos
DESCRIPTION:¿Qué deseas para el próximo año que está a punto de comenzar? \nHacer una dieta más sana\, más ejercicio\, conseguir un trabajo\, tener una relación de pareja\, comprar un coche nuevo\, viajar a algún lugar… \n¿Has oído hablar de la ley de atracción? Para conseguir las cosas que te gustaría tener es necesario primero\, creer que es posible conseguirlo y después\, proyectar\, vibrar y emocionarte como si ya las tuvieras. \nCuando pedimos algo al Universo\, es mejor hacerlo desde la gratitud de todo lo que ya tenemos\, no desde la carencia o la necesidad. Y por supuesto\, desde la alegría y el disfrute. \n  \nPor lo tanto\, nuestra propuesta es reunirnos para hacer trabajos manuales\,  jugar y divertirnos como niños.  Fabricando un Collage en el cual pegaremos las fotos y/o palabras que representen nuestros deseos\, las recortaremos previamente de las revistas que tengamos\, dibujaremos\, pintaremos y lo que se le ocurra a cada uno porque es un trabajo completamente libre. \nLa idea es que luego lo lleves a casa y lo cuelgues en algún lugar donde puedas verlo a menudo y así cada vez que lo mires\, estarás proyectando y poniendo tu energía en eso que quieres y estarás más cerca de conseguirlo. \n  \nTe animas?? \nSólo tienes que traer alguna revista vieja si tienes\, calcetines calentitos porque en la sala no entramos con zapatos y muchas ganas de pasarlo bien. Del resto del material me encargo yo\, por ello es imprescindible que comuniques tu asistencia por teléfono o whatsapp al 679 320 928. \nFacilita: Olga Lava Mares \nPrecio: Aportar lo que cada uno pueda para los gastos del material (cartulinas\, pegamento\, etc) \n  \nComparte esto:Haz clic para compartir en Twitter (Se abre en una ventana nueva)Haz clic para compartir en Facebook (Se abre en una ventana nueva)
URL:https://olgalava.com/event/collage-de-los-deseos/
LOCATION:ALATEL\, C/ Alcudia de Crespins\, 12 - 33\, Valencia\, 46019\, España
ORGANIZER;CN="Olga Lava":MAILTO:olgalava@hotmail.com
END:VEVENT
BEGIN:VEVENT
DTSTART;TZID=Europe/Madrid:20170916T110000
DTEND;TZID=Europe/Madrid:20170916T130000
DTSTAMP:20260424T100658
CREATED:20160902T111124Z
LAST-MODIFIED:20170821T120918Z
UID:791-1505559600-1505566800@olgalava.com
SUMMARY:Clase Magistral de Espalda Sana
DESCRIPTION:Técnica sencilla y práctica en la que se plantean estiramientos suaves\, sostenidos y conscientes. Nos permite liberarnos de tensiones profundas a través de la postura y la respiración con la intención de unificar cuerpo y mente.\nApto para todo el mundo\, especialmente indicado para las personas con problemas musculares y de huesos; contracturas\, hernias\, escoliosis\, artrosis\, etc. \n  \nBeneficios \n\nAliviar molestias y tensiones de la espalda.\nMejorar nuestra postura\nFacilitar el movimiento.\nRelajación y reducción del estrés.\nLiberar la respiración.\nRegular la tonificación muscular.\nAcondicionar para el deporte evitando lesiones.\nMejorar la flexibilidad corporal a través de la elongación de la musculatura superficial y profunda y sus envolturas las fascias.\n\n  \nDía 16 de septiembre de 11:00 a 13:00 h. \nImparte: Olga Lava \nPrecio: 15 € \nInformación e inscripciones: 679 320 928 \n  \n  \nComparte esto:Haz clic para compartir en Twitter (Se abre en una ventana nueva)Haz clic para compartir en Facebook (Se abre en una ventana nueva)
URL:https://olgalava.com/event/clase-de-espalda-sana/
LOCATION:ALATEL\, C/ Alcudia de Crespins\, 12 - 33\, Valencia\, 46019\, España
ORGANIZER;CN="Olga Lava":MAILTO:olgalava@hotmail.com
END:VEVENT
BEGIN:VEVENT
DTSTART;TZID=Europe/Madrid:20170914T190000
DTEND;TZID=Europe/Madrid:20170922T210000
DTSTAMP:20260424T100658
CREATED:20161114T214855Z
LAST-MODIFIED:20170904T083244Z
UID:859-1505415600-1506114000@olgalava.com
SUMMARY:Conferencias sobre Síntesis Energética
DESCRIPTION:Tenemos el placer de invitaros al ciclo de conferencias que realizaremos para presentar el curso de “Síntesis Energética”. \n  \nBasada en la Biosíntesis creada por Juan Pablo Uribe\, la Síntesis Energética nos permite conectar con el corazón a través del pulso y recibir toda la información de desórdenes frecuenciales que pueda tener la persona. Puesto que cualquier conflicto que tengamos\, cualquier situación que no está en equilibrio\, afecta a nuestros cuerpos energéticos y como consecuencia de ello a nuestra parte más densa\, nuestro cuerpo; estos se convierten en enfermedades\, eventos o personas que atraemos a nuestra vida y que no están en armonía con nosotros\, o bloqueos que nos limitan y nos impiden avanzar. \n  \nCentrándonos en herramientas tan conocidas como la Geometría Sagrada\, las frecuencias del Sonido\, los diferentes espectros de Luz\, el poder de la Verbalización\, la Meditación más la lectura del Pulso desarrollamos aún más nuestra intuición\, intención y compasión para hacer un trabajo terapéutico que está teniendo excelentes resultados\, pues nos ayuda a  recuperar la coherencia y la felicidad. \nDurante esta charla se explicará cómo se utiliza esta herramienta y se practicarán algunos ejercicios sencillos para experimentarlo. \n  \nApto para todos los públicos\, cualquier persona que tenga interés es bienvenida. La entrada libre y gratuita. Os esperamos en: \n  \nDia 14 septiembre a las 19:00 en ALATEL C/ Alcudia de Crespins\, 12 – 33 Valencia \nDía 15 septiembre a las 19:00 en HERBOLARIO NAVARRO C/ San Vicente Valencia \nDía 21 septiembre a las 18:00 en HERBOLARIO NAVARRO C/ Fuencarral\, 138 Madrid \nDía 22 septiembre a las 19:30 en ECOCENTRO C/ Esquilache\, 2 – 12 Madrid \n  \nMás información: \nAtit Dharma Das – 649 104 786 – atitdharmadas@gmail.com \nOlga Lava Mares – 679 320 928 – olgalvmrs@gmail.com \n  \n  \nComparte esto:Haz clic para compartir en Twitter (Se abre en una ventana nueva)Haz clic para compartir en Facebook (Se abre en una ventana nueva)
URL:https://olgalava.com/event/charla-la-sabiduria-del-corazon/
LOCATION:ALATEL\, C/ Alcudia de Crespins\, 12 - 33\, Valencia\, 46019\, España
ORGANIZER;CN="Olga Lava":MAILTO:olgalava@hotmail.com
END:VEVENT
BEGIN:VEVENT
DTSTART;TZID=Europe/Madrid:20170801T080000
DTEND;TZID=Europe/Madrid:20170820T170000
DTSTAMP:20260424T100658
CREATED:20170725T183721Z
LAST-MODIFIED:20170725T183721Z
UID:1067-1501574400-1503248400@olgalava.com
SUMMARY:NOS VAMOS DE VACACIONES
DESCRIPTION:La consulta permanecerá cerrada desde el 1 al 20 de agosto. \nSi deseas pedir cita o consultar cualquier duda puedes hacerlo antes o después de esta fecha y con mucho gusto te atenderemos. \nOs deseamos un feliz verano y un feliz descanso! \n \nComparte esto:Haz clic para compartir en Twitter (Se abre en una ventana nueva)Haz clic para compartir en Facebook (Se abre en una ventana nueva)
URL:https://olgalava.com/event/nos-vamos-de-vacaciones/
LOCATION:ALATEL\, C/ Alcudia de Crespins\, 12 - 33\, Valencia\, 46019\, España
ORGANIZER;CN="Olga Lava":MAILTO:olgalava@hotmail.com
END:VEVENT
BEGIN:VEVENT
DTSTART;TZID=Europe/Madrid:20161006T193000
DTEND;TZID=Europe/Madrid:20161006T210000
DTSTAMP:20260424T100658
CREATED:20160929T090558Z
LAST-MODIFIED:20160929T091744Z
UID:833-1475782200-1475787600@olgalava.com
SUMMARY:Clase de Yoga
DESCRIPTION:ENTRADA LIBRE Y GRATUITA \nEl yoga\, con sus diversas prácticas físicas\, espirituales y meditativas\, tiene grandes y beneficios en nuestro bienestar integral. Es un sistema holístico que trabaja en todos los planos. En el físico\, entre otras cosas\, nos hace más conscientes de los ritmos y necesidades naturales del cuerpo\, fortalece los músculos y huesos\, retrasa el proceso de envejecimiento\, aumenta la energía vital\, da flexibilidad y equilibrio\, oxigena y limpia nuestros órganos\, beneficia nuestro sistema cardiovascular\, endocrino\, digestivo y respiratorio\, abre los canales energéticos y equilibra los chakras. \nEn el plano mental disminuye el estrés\, favorece la concentración\, la capacidad de razonamiento y nos levanta el ánimo. También nos trae armonía interior\, que muchas veces nos ayuda a dormir mejor\, disminuye la tendencia a reaccionar con rabia o tristeza ante las situaciones\, ayuda a la superación de miedos y tener un pensamiento positivo. El equilibrio interior y la apertura de corazón repercuten no sólo en una mejor forma de relacionarse con el mundo\, y una mejor experiencia vital\, sino también en la salud física. \nSi nunca has practicado yoga ven a esta clase\, es una gran oportunidad para descubrirlo. Si practicas yoga regularmente\, ven a disfrutar con nosotros!! Haremos Pranayamas\, Asanas\, Relajación y Meditación\, desde la perspectiva de aumentar la presencia y la conciencia en nuestro cuerpo\, mente y emociones. \n  \nImparte Olga Lava – Socia Nº 5826 de APTN_COFENAT \nProfesional de Terapias Naturales del Real Centro Universitario Mª Cristina del Escorial\, en la modalidad de Liberador holístico del estrés con técnicas de Kinesiología Psicoenergética. \nDiplomada en Bioingeniería Cuántica. Terapeuta de Biomagnetismo Holográfico\, Restauración Bioenergética (Acupuntura sin agujas)\, Hipnosis Terapéutica y Metafísica\, Formatos del Cerebro\, Psych-K\, EFT\, Flores de Bach\, Homeopatía\, Fitoterapia\, Estudio del Terreno Nutricional y Test de Alimentos\, Sanación Akáshica\, Reiki Usui\, Reiki Unitario y Reiki Mahananda. \nInstructora de Kinesiología Touch for Health\, Kinesiología del Alma BioKinesiología y co-creadora del curso Kinesiología Integral y Evolutiva. \nProfesora de Yoga\, Espalda Sana y Meditación. \nAdyhapaka (Sacerdote-Profesor) de la tradición de Budismo Esotérico Mahajrya. \n  \nPosibilidad de continuar con clases regulares. Estamos formando grupos para martes Estiramientos Conscientes y jueves Yoga de 19.30 a 21.00. Puedes venir a dos clases a la semana por 40 € mensuales o a una sola clase semanal por 30 € al mes. \nComenzamos a partir del 18 de octubre. \nInformación e inscripciones: Xavi 653 130 229 – Olga 679 320 928 \nComparte esto:Haz clic para compartir en Twitter (Se abre en una ventana nueva)Haz clic para compartir en Facebook (Se abre en una ventana nueva)
URL:https://olgalava.com/event/clase-de-yoga/
LOCATION:ESPACIO FLOR DE PASIÓN\, Plaza Patraix\, 3\, Valencia\, Valencia\, España
ORGANIZER;CN="Olga Lava":MAILTO:olgalava@hotmail.com
END:VEVENT
END:VCALENDAR