BEGIN:VCALENDAR
VERSION:2.0
PRODID:-//Olga Lava Mares - ECPv6.2.5//NONSGML v1.0//EN
CALSCALE:GREGORIAN
METHOD:PUBLISH
X-WR-CALNAME:Olga Lava Mares
X-ORIGINAL-URL:https://olgalava.com
X-WR-CALDESC:Eventos para Olga Lava Mares
REFRESH-INTERVAL;VALUE=DURATION:PT1H
X-Robots-Tag:noindex
X-PUBLISHED-TTL:PT1H
BEGIN:VTIMEZONE
TZID:Europe/Madrid
BEGIN:DAYLIGHT
TZOFFSETFROM:+0100
TZOFFSETTO:+0200
TZNAME:CEST
DTSTART:20180325T010000
END:DAYLIGHT
BEGIN:STANDARD
TZOFFSETFROM:+0200
TZOFFSETTO:+0100
TZNAME:CET
DTSTART:20181028T010000
END:STANDARD
END:VTIMEZONE
BEGIN:VEVENT
DTSTART;TZID=Europe/Madrid:20180429T100000
DTEND;TZID=Europe/Madrid:20180429T200000
DTSTAMP:20260423T110655
CREATED:20170904T075828Z
LAST-MODIFIED:20180325T144947Z
UID:1211-1524996000-1525032000@olgalava.com
SUMMARY:Taller de Constelaciones Familiares
DESCRIPTION:Facilita: Atit Dharma Das Jesús \nInformación y reservas: Información y reservas: 649 104 786 – atitdharmadas@gmail.com \n  \nLugar: Madrid.  (Por determinar) \nHorario: lo habitual es de 10:00 a 14:00 y de 16:00 a 20:00 pudiendo sufrir modificaciones en función de cuántas personas constelen. \n  \nPrecio constelador: 60 €\nPrecio representante: 30€ \nLas plazas son limitadas\, es necesario reservar ingresando 25 € al número de cuenta: \nJesús Salvador Herranz \nTRIODOS BANK ES56 1491 0001 2130 0009 6092 \n*La reserva solo se devolverá si el curso se anula por no completar el aforo. Si una vez realizado el pago el alumno no puede venir\, el dinero se reservará para un próximo curso de la misma temática o lo podrá transferir a otra persona. \n  \nMás información: \nTaller de Constelaciones Familiares \n \nComparte esto:Haz clic para compartir en Twitter (Se abre en una ventana nueva)Haz clic para compartir en Facebook (Se abre en una ventana nueva)
URL:https://olgalava.com/event/taller-de-constelaciones-familiares/
ORGANIZER;CN="Atit Dharma Das":MAILTO:atitdharmadas@gmail.com
END:VEVENT
END:VCALENDAR