BEGIN:VCALENDAR
VERSION:2.0
PRODID:-//Olga Lava Mares - ECPv6.2.5//NONSGML v1.0//EN
CALSCALE:GREGORIAN
METHOD:PUBLISH
X-ORIGINAL-URL:https://olgalava.com
X-WR-CALDESC:Eventos para Olga Lava Mares
REFRESH-INTERVAL;VALUE=DURATION:PT1H
X-Robots-Tag:noindex
X-PUBLISHED-TTL:PT1H
BEGIN:VTIMEZONE
TZID:Europe/Madrid
BEGIN:DAYLIGHT
TZOFFSETFROM:+0100
TZOFFSETTO:+0200
TZNAME:CEST
DTSTART:20180325T010000
END:DAYLIGHT
BEGIN:STANDARD
TZOFFSETFROM:+0200
TZOFFSETTO:+0100
TZNAME:CET
DTSTART:20181028T010000
END:STANDARD
END:VTIMEZONE
BEGIN:VEVENT
DTSTART;TZID=Europe/Madrid:20180701T100000
DTEND;TZID=Europe/Madrid:20180701T150000
DTSTAMP:20260421T155852
CREATED:20170904T080758Z
LAST-MODIFIED:20180606T150407Z
UID:1215-1530439200-1530457200@olgalava.com
SUMMARY:Introducción al trabajo con Varas de Sanación y Cuarzos
DESCRIPTION:En este taller podrás aprender a conocer y experimentar el trabajo que se hace con éstas herramientas. \n– Qué son las varas de sanación o de poder.\n– Propiedades de los cuarzos.\n– Limpiar energéticamente los cuarzos y otras gemas.\n– Sintonizar con su frecuencia.\n– Detectar el desequilibrio en el campo energético y a corregirlo.\n– Qué son y como tratar las cicatrices energéticas. \n  \nFacilitado por Atit Dharma Das Jesús que sigue trabajando\, desarrollando y compartiendo éste trabajo aplicándolo como apoyo en terapia\, tanto física como psicoenergética obteniendo muy buenos resultados. \n  \nDuración: 5 horas\, de 10`00 a 15`00 con un pequeño descanso. \n  \nPrecio:  45 euros\, las plazas son limitadas y puedes reservar la tuya llamando al 649104786 o escribiendo a la dirección atitdharmadas@gmail.com \n  \nLugar: ESPACIO ALQUIMIA DEL CORAZÓN EN C/ Mayor\, 18 – 1º izda. Madrid \n  \n  \nMás información: \nTaller de cuarzos\, varas de sanación y otras gemas \n \n  \n  \nComparte esto:Haz clic para compartir en Twitter (Se abre en una ventana nueva)Haz clic para compartir en Facebook (Se abre en una ventana nueva)
URL:https://olgalava.com/event/taller-de-cuarzos/
LOCATION:ESPACIO ALQUIMIA DEL CORAZÓN\, C/ Mayor\, 18 - 1º Izquierda\, Madrid\, España
ORGANIZER;CN="Atit Dharma Das":MAILTO:atitdharmadas@gmail.com
END:VEVENT
BEGIN:VEVENT
DTSTART;TZID=Europe/Madrid:20180716T093000
DTEND;TZID=Europe/Madrid:20180720T193000
DTSTAMP:20260421T155852
CREATED:20160620T190018Z
LAST-MODIFIED:20180629T105321Z
UID:716-1531733400-1532115000@olgalava.com
SUMMARY:Intensivo de Kinesiología
DESCRIPTION:Aprendemos la relación entre músculos y meridianos. \nSe obtiene la habilidad de hacer un test preciso y una rueda de valoración a 14 músculos principales asociados a los órganos  y meridianos de acupuntura. \nEliminar los desequilibrios energéticos que impiden el bienestar y el rendimiento óptimo. \nSe aprende a liberar el estrés emocional a través de técnicas específicas con emociones\, objetivos\, color y sonido. \nRecesión de edad para revisar situaciones del pasado o del futuro que nos estresan. \nDetectar intolerancias y alergias alimentarias. Aprender a testar que nutrientes o suplementos se necesitan. \nTécnicas para aliviar el dolor. \n  \nFacilita: Olga Lava Mares \nInformación y reservas: 679 320 928 – olgalvmrs@gmail.com \n  \nLugar: ALATEL\, C/ Alcudia de Crespins\, 12 – 33 Valencia \nFechas: Del 16 al 20 julio 2018 \nHorario: De lunes a viernes\, de 9:30 a 19:30\, con descanso para la comida \n  \nPrecio: 450 €. Descuento de 20 € si reservas antes del 1 de julio \nReserva: 100 € al nº de cuenta de Olga Lava Mares \nTRIODOS BANK ES42 1491 0001 2821 2728 9128 \nEl resto del pago se realizará el primer día del curso. \n  \nMás información: \nIntensivo de Kinesiología \n \n  \n  \nComparte esto:Haz clic para compartir en Twitter (Se abre en una ventana nueva)Haz clic para compartir en Facebook (Se abre en una ventana nueva)
URL:https://olgalava.com/event/intensivo-de-kinesiologia/
LOCATION:ALATEL\, C/ Alcudia de Crespins\, 12 - 33\, Valencia\, 46019\, España
END:VEVENT
END:VCALENDAR