BEGIN:VCALENDAR
VERSION:2.0
PRODID:-//Olga Lava Mares - ECPv6.2.5//NONSGML v1.0//EN
CALSCALE:GREGORIAN
METHOD:PUBLISH
X-WR-CALNAME:Olga Lava Mares
X-ORIGINAL-URL:https://olgalava.com
X-WR-CALDESC:Eventos para Olga Lava Mares
REFRESH-INTERVAL;VALUE=DURATION:PT1H
X-Robots-Tag:noindex
X-PUBLISHED-TTL:PT1H
BEGIN:VTIMEZONE
TZID:Europe/Madrid
BEGIN:DAYLIGHT
TZOFFSETFROM:+0100
TZOFFSETTO:+0200
TZNAME:CEST
DTSTART:20180325T010000
END:DAYLIGHT
BEGIN:STANDARD
TZOFFSETFROM:+0200
TZOFFSETTO:+0100
TZNAME:CET
DTSTART:20181028T010000
END:STANDARD
END:VTIMEZONE
BEGIN:VEVENT
DTSTART;TZID=Europe/Madrid:20180916T100000
DTEND;TZID=Europe/Madrid:20180916T140000
DTSTAMP:20260421T092222
CREATED:20180430T135818Z
LAST-MODIFIED:20180828T202928Z
UID:1506-1537092000-1537106400@olgalava.com
SUMMARY:Taller de Pintura y Meditación
DESCRIPTION:Continuando con el inicio de la nueva temporada\, te proponemos este taller tan especial para meditar a través de la pintura\, donde podremos vencer nuestras barreras mentales a la hora de fluir en el dibujo. \nAprende técnicas útiles y divertidas que te ayuden a desbloquear y activar tu hemisferio derecho\, para aumentar la creatividad y la intuición. \n  \nNo necesitas traer nada\, el material lo tenemos aquí. \n  \nPrecio: 40 € \n  \nFacilita: Atit Dharma Das Jesús \nInformación y reservas: 649 104 786 – atitdharmadas@gmail.com \n  \nLugar: ALATEL\, C/ Alcudia de Crespins\, 12 – 33 Valencia \nFecha: 16 de septiembre 2018 \nHorario: De 10:00 a 14:00 h. \n  \nComparte esto:Haz clic para compartir en Twitter (Se abre en una ventana nueva)Haz clic para compartir en Facebook (Se abre en una ventana nueva)
URL:https://olgalava.com/event/taller-de-pintura/
LOCATION:ALATEL\, C/ Alcudia de Crespins\, 12 - 33\, Valencia\, 46019\, España
ORGANIZER;CN="Atit Dharma Das":MAILTO:atitdharmadas@gmail.com
END:VEVENT
END:VCALENDAR