BEGIN:VCALENDAR
VERSION:2.0
PRODID:-//Olga Lava Mares - ECPv6.2.5//NONSGML v1.0//EN
CALSCALE:GREGORIAN
METHOD:PUBLISH
X-ORIGINAL-URL:https://olgalava.com
X-WR-CALDESC:Eventos para Olga Lava Mares
REFRESH-INTERVAL;VALUE=DURATION:PT1H
X-Robots-Tag:noindex
X-PUBLISHED-TTL:PT1H
BEGIN:VTIMEZONE
TZID:Europe/Madrid
BEGIN:DAYLIGHT
TZOFFSETFROM:+0100
TZOFFSETTO:+0200
TZNAME:CEST
DTSTART:20190331T010000
END:DAYLIGHT
BEGIN:STANDARD
TZOFFSETFROM:+0200
TZOFFSETTO:+0100
TZNAME:CET
DTSTART:20191027T010000
END:STANDARD
END:VTIMEZONE
BEGIN:VEVENT
DTSTART;TZID=Europe/Madrid:20190126T100000
DTEND;TZID=Europe/Madrid:20190127T150000
DTSTAMP:20260421T040020
CREATED:20161114T214745Z
LAST-MODIFIED:20190201T154644Z
UID:861-1548496800-1548601200@olgalava.com
SUMMARY:Formación de Síntesis Energética Barcelona
DESCRIPTION:     Formación de 5 meses de duración de la técnica terapeutica con testaje a través del pulso.\nSe realizará un seminario al mes\, en fin de semana\, con el sábado completo y el domingo hasta el mediodía.\n    No te pierdas la oportunidad de realizar este curso único en Barcelona en el que aprenderás técnicas sencillas a la vez que poderosas para sanar cualquier tipo de desórdenes: físicos\, energéticos\, mentales\, emocionales\, astrales\, sistémicos… Entrénate para ser tú la propia herramienta de sanación! \n     Las plazas son limitadas\, si estás interesado en realizar este curso reserva la tuya cuanto antes. \n  \nImparten: Olga Lava y Atit Dharma Das Jesús \n  \nLugar: C/ Provenza\, 546 bajo – Barcelona \nOrganiza: TEAM EVOLUTION – www.teamevolution.com – 628 153 103 \n  \n     Si necesitas más información con precios y programa detallado revisa el apartado siguiente: \nSíntesis Energética Formación \n \n  \n  \nComparte esto:Haz clic para compartir en Twitter (Se abre en una ventana nueva)Haz clic para compartir en Facebook (Se abre en una ventana nueva)
URL:https://olgalava.com/event/formacion-de-sintesis-energetica-barcelona/
LOCATION:Team Evolution\, C/ Provenza\, 546 bajo\, Barcelona\, España
END:VEVENT
END:VCALENDAR