BEGIN:VCALENDAR
VERSION:2.0
PRODID:-//Olga Lava Mares - ECPv6.2.5//NONSGML v1.0//EN
CALSCALE:GREGORIAN
METHOD:PUBLISH
X-WR-CALNAME:Olga Lava Mares
X-ORIGINAL-URL:https://olgalava.com
X-WR-CALDESC:Eventos para Olga Lava Mares
REFRESH-INTERVAL;VALUE=DURATION:PT1H
X-Robots-Tag:noindex
X-PUBLISHED-TTL:PT1H
BEGIN:VTIMEZONE
TZID:Europe/Madrid
BEGIN:DAYLIGHT
TZOFFSETFROM:+0100
TZOFFSETTO:+0200
TZNAME:CEST
DTSTART:20190331T010000
END:DAYLIGHT
BEGIN:STANDARD
TZOFFSETFROM:+0200
TZOFFSETTO:+0100
TZNAME:CET
DTSTART:20191027T010000
END:STANDARD
END:VTIMEZONE
BEGIN:VEVENT
DTSTART;TZID=Europe/Madrid:20190216T100000
DTEND;TZID=Europe/Madrid:20190217T150000
DTSTAMP:20260421T022353
CREATED:20181014T102946Z
LAST-MODIFIED:20190224T110515Z
UID:1647-1550311200-1550415600@olgalava.com
SUMMARY:Formación de Síntesis Energética Valencia y Barcelona
DESCRIPTION:     Formación de 5 meses de duración de la técnica terapéutica con testaje a través del pulso.\nSe realizará un seminario al mes\, en fin de semana\, con el sábado completo y el domingo hasta el mediodía.\nNo te pierdas la oportunidad de realizar este curso único  en el que aprenderás técnicas sencillas a la vez que poderosas para sanar cualquier tipo de desórdenes: físicos\, energéticos\, mentales\, emocionales\, astrales\, sistémicos… Entrénate para ser tú la propia herramienta de sanación! \nLas plazas son limitadas y las fechas están por confirmar\, si estás interesado contacta con nosotros para que te podamos informar a la mayor brevedad. \n  \nImparte: Atit Dharma Das Jesús – 649 104 786 – atitdharmadas@gmail.com \n  \nLugar: Barcelona y Valencia \n  \n  \nSi necesitas más información con precios y programa detallado revisa el apartado siguiente: \nSíntesis Energética Formación \n \nComparte esto:Haz clic para compartir en Twitter (Se abre en una ventana nueva)Haz clic para compartir en Facebook (Se abre en una ventana nueva)
URL:https://olgalava.com/event/formacion-de-sintesis-energetica-valencia/
LOCATION:ALATEL\, C/ Alcudia de Crespins\, 12 - 33\, Valencia\, 46019\, España
ORGANIZER;CN="Atit Dharma Das":MAILTO:atitdharmadas@gmail.com
END:VEVENT
BEGIN:VEVENT
DTSTART;TZID=Europe/Madrid:20190223T100000
DTEND;TZID=Europe/Madrid:20190224T140000
DTSTAMP:20260421T022353
CREATED:20170415T080900Z
LAST-MODIFIED:20190224T110622Z
UID:929-1550916000-1551016800@olgalava.com
SUMMARY:Curso Introductorio de Síntesis Energética
DESCRIPTION:Curso teórico-práctico que nos adentra en la técnica terapéutica de testaje con el pulso. Esto nos permite detectar los desequilibrios que están sucediendo en la persona ya sean a nivel físico\, mental\, emocional\, astral\, sistémico\, etc. \nDurante el curso se obtiene un mayor conocimiento de cómo funciona nuestro cuerpo energético (chakras\, etc.) y se aprende a corregir todos estos desórdenes con las frecuencias vibracionales de geometrías sagradas\, luz y sonido. \nSe realizaran prácticas para poder aplicarlo a uno mismo y a los demás.\nDirigido a todas aquellas personas que teniendo experiencia o no como terapeutas tengan interés en aprender la técnica. \n  \nEste taller además de ser un curso introductorio a la técnica también es el 1º módulo de la Formación de 5 meses que empezará  en Barcelona cuando se haya formado el grupo. \n  \nFacilita: Atit DharmaDas Jesús \nInformación y reservas: 649 104 786 – atitdharmadas@gmail.com \n  \nLugar: BARCELONA \nFecha: Por confirmar\, si estás interesado ponte en contacto con nosotros y te informaremos a la mayor brevedad \nHorario: Sábado de 10:00 a 14:00 y de 16:00 a 20:00. Domingo de 10:00 a 14:00 horas \nPrecio: Por confirmar \n  \n  \nMás información: \nSíntesis Energética Curso Intro \n \n  \n  \n  \nComparte esto:Haz clic para compartir en Twitter (Se abre en una ventana nueva)Haz clic para compartir en Facebook (Se abre en una ventana nueva)
URL:https://olgalava.com/event/taller-de-introduccion-a-la-sintesis-energetica/
ORGANIZER;CN="Atit Dharma Das":MAILTO:atitdharmadas@gmail.com
END:VEVENT
END:VCALENDAR