BEGIN:VCALENDAR
VERSION:2.0
PRODID:-//Olga Lava Mares - ECPv6.2.5//NONSGML v1.0//EN
CALSCALE:GREGORIAN
METHOD:PUBLISH
X-WR-CALNAME:Olga Lava Mares
X-ORIGINAL-URL:https://olgalava.com
X-WR-CALDESC:Eventos para Olga Lava Mares
REFRESH-INTERVAL;VALUE=DURATION:PT1H
X-Robots-Tag:noindex
X-PUBLISHED-TTL:PT1H
BEGIN:VTIMEZONE
TZID:Europe/Madrid
BEGIN:DAYLIGHT
TZOFFSETFROM:+0100
TZOFFSETTO:+0200
TZNAME:CEST
DTSTART:20190331T010000
END:DAYLIGHT
BEGIN:STANDARD
TZOFFSETFROM:+0200
TZOFFSETTO:+0100
TZNAME:CET
DTSTART:20191027T010000
END:STANDARD
END:VTIMEZONE
BEGIN:VEVENT
DTSTART;TZID=Europe/Madrid:20190929T100000
DTEND;TZID=Europe/Madrid:20190929T200000
DTSTAMP:20260420T134311
CREATED:20170522T095351Z
LAST-MODIFIED:20190903T140136Z
UID:977-1569751200-1569787200@olgalava.com
SUMMARY:Jornada de Puertas Abiertas
DESCRIPTION:Se terminó lo bueno … y ahora empieza lo mejor!! \nDespués del merecido descanso\, iniciamos el nuevo curso con muchas ganas y las pilas puestas. Y para celebrarlo queremos compartir con vosotros un día completo de puertas abiertas con muchas y variadas actividades\, todas ellas GRATUITAS \n\nInauguramos la exposición de pintura que permanecerá en el centro de forma permanente: BOTONARTE. No te pierdas los pinturas más creativas y artísticas realizadas con botones. Puedes pasarte a visitarla cuando quieras a lo largo del día.\nA las 10.00 de la mañana comenzaremos la jornada con una Clase de ESPALDA SANA impartida por Olga Lava. Para ello solo tienes que traer ropa cómoda y una toalla o pareo para cubrir la colchoneta. En esta clase es imprescindible confirmar la asistencia por cuestiones de espacio en el 679 320 928\nA las 12.00 continuaremos con la presentación de la técnica SÍNTESIS ENERGÉTICA con Atit Jesús Salvador. En la cual podrás participar de una charla explicativa\, distintas demostraciones y prácticas para poder experimentar los efectos en tí mismo\, y la presentación del nuevo curso.\nA las 14.00 cerraremos para comer. Y estaremos encantados de compartir con todos los que queráis apuntaros. La comida se realizará en algún restaurante de la zona.\nA las 16.30 retomamos las actividades con una Clase de MEDITACIÓN GUIADA por Atit Jesús Salvador\, donde podrás descubrir el poder de la Geometría Sagrada.\nA las 18.00 seguiremos con la presentación de la técnica KINESIOLOGÍA con Olga Lava Mares. En la cual podrás participar de una charla explicativa\, distintas demostraciones y prácticas para poder experimentar los efectos en tí mismo\, y la presentación del nuevo curso.\nA las 20.00 despedida y cierre.\n\n  \nTe esperamos con los brazos abiertos y recuerda que puedes traer a quien quieras\, invita a tus familiares y amigos. \nNo te lo pierdas!! \n  \n  \nComparte esto:Haz clic para compartir en Twitter (Se abre en una ventana nueva)Haz clic para compartir en Facebook (Se abre en una ventana nueva)
URL:https://olgalava.com/event/jornada-de-puertas-abiertas/
LOCATION:ALATEL\, C/ Alcudia de Crespins\, 12 - 33\, Valencia\, 46019\, España
ORGANIZER;CN="Olga Lava":MAILTO:olgalava@hotmail.com
END:VEVENT
END:VCALENDAR